BEGIN:VCALENDAR
VERSION:2.0
PRODID:-//Stop aux Violences Sexuelles Alsace - ECPv6.3.3//NONSGML v1.0//EN
CALSCALE:GREGORIAN
METHOD:PUBLISH
X-ORIGINAL-URL:https://svsalsace.com
X-WR-CALDESC:évènements pour Stop aux Violences Sexuelles Alsace
REFRESH-INTERVAL;VALUE=DURATION:PT1H
X-Robots-Tag:noindex
X-PUBLISHED-TTL:PT1H
BEGIN:VTIMEZONE
TZID:Europe/Paris
BEGIN:DAYLIGHT
TZOFFSETFROM:+0100
TZOFFSETTO:+0200
TZNAME:CEST
DTSTART:20250330T010000
END:DAYLIGHT
BEGIN:STANDARD
TZOFFSETFROM:+0200
TZOFFSETTO:+0100
TZNAME:CET
DTSTART:20251026T010000
END:STANDARD
END:VTIMEZONE
BEGIN:VEVENT
DTSTART;TZID=Europe/Paris:20250308T000000
DTEND;TZID=Europe/Paris:20250308T233000
DTSTAMP:20260420T050406
CREATED:20250226T210159Z
LAST-MODIFIED:20250226T210159Z
UID:29566-1741392000-1741476600@svsalsace.com
SUMMARY:Journée pour la Lutte pour les Droits des Femmes - 8 mars 2025
DESCRIPTION:La Maison du Mouvement organise\, sous ce jour du 8 mars\, symbole de la lutte pour les droits des femmes\, une journée nommée : Reconnecté·e·s !\n\n\nSon objectif est d’offrir un espace et un temps aux femmes pour se reconnecter à elles-mêmes et à leurs expériences\, puis d’ouvrir la discussion avec une conférence autour de la sexualité\, et de finir tous ensemble par un repas partagé et une soirée salsa/bachata.\n\n\n\nL’ensemble des dons et bénéfices de la journée sera reversé à l’association “Stop aux violences sexuelles”.\nNous remercions La Maison du Mouvement pour cette initiative et l’organisation de cette journée.\n\n\n\nEn voici un aperçu du programme : ateliers (Cardio-boxe\, Auto-Massage\, Burlesque\, Yoga\, Autodéfense verbale et émotionnelle) et conférence (La sexualité? La relation sexuelle?..C’est beau et bon! animé par Nicole Andrieu (Sage femme\, Sexologue) & Alexa Wrzesinski (Osthéopathe)\n\n\n\nProgramme complet :\nJournée des droits des femmes – 8 mars 2025 – La Maison du Mouvement\n\n\n\nBilletterie sur HelloAsso :\n8 mars – journée des droits des femmes\n\n\n\nLIEU : LA MAISON DU MOUVEMENT\n75 route de Schirmeck – 67200 Strasbourg\nParking Gratuit
URL:https://svsalsace.com/event/journee-pour-la-lutte-pour-les-droits-des-femmes-8-mars-2025/
LOCATION:La Maison du Mouvement\, 75 route de Schirmeck\, Strasbourg\, 67200\, France
END:VEVENT
END:VCALENDAR